{"text_format":"1","workbook":"xlsx","n_sheets":12,"sheets":["IND.1","IND.2plazas","IND.3 act cult","IND.4 act.inf","IND.5 EXPOS","IND.6 ESPACIO","IND.7 APERT.","IND.8 SOLICI","IND.9 C.C","asociacionismo","IND.10QUEJAS","TIPOLOGÍA"],"not_rendered":{"charts":22,"images":3,"macros":0,"external_links":2,"defined_names":11,"comments":0,"pivot_tables":0},"unopened":[],"bounds":{"document_bytes":16777216,"sheet_cells":100000,"rows_first":2000,"rows_last":500,"rows_between":2000,"halvings":0,"cell_chars":16384,"cell_head_chars":4096},"cells_cut":0,"cells_raw":0,"read":"whole","date_system":"1900"}

{"sheet":"IND.1","index":0,"n_rows":62,"n_cols":17,"rows_kept":62,"cut":false,"hidden":false,"merged":[]}
[]
[]
["INFORMACIONES ","Bailarín V.E.","Campillo","Casa Cuna","Delicias","Esgueva","J.M.Luelmo","J.L Mosquera","Parquesol","Pilarica","Rondilla","La Victoria","Zona Este","Zona Sur","SEMANAL","MENSUAL","% trimestre"]
["ENERO",674,902,401,670,501,514,1398,1338,595,710,497,712,1415,{"$f":"SUM(B4:N4)","v":10327},{"$f":"O4*4","v":41308}]
["FEBRERO",598,842,378,720,385,718,1531,1290,629,600,358,751,1349,{"$f":"SUM(B5:N5)","v":10149},{"$f":"O5*4","v":40596},{"$f":"AVERAGE(P4:P6)","v":41474.666666666664}]
["MARZO",561,783,437,715,448,767,1149,1431,632,505,300,701,2201,10630,42520]
["ABRIL",822,903,410,819,547,713,1385,1258,466,775,332,778,1634,10842,43368]
["MAYO",936,791,358,749,535,1110,1076,1142,437,680,393,777,1872,10856,43424,{"$f":"AVERAGE(P7,P8,P9)","v":42578.666666666664}]
["JUNIO",676,649,411,782,575,1034,1109,1357,636,815,282,629,1281,10236,40944]
["JULIO",276,245,116,241,274,511,219,403,197,255,116,244,522,3619,14476]
["AGOSTO",147,262,171,142,225,232,269,429,359,138,106,214,471,3165,12660,{"$f":"AVERAGE(P10:P12)","v":26913.333333333332}]
["SEPTIEMBRE",848,129,401,129,590,1261,1358,1178,1141,760,807,799,4000,13401,53604]
["OCTUBRE",1064,680,375,560,552,917,1185,1254,653,586,495,563,1871,10755,43020]
["NOVIEMBRE",1007,612,557,1160,651,1129,1318,1218,668,810,403,597,1608,11738,46952,{"$f":"AVERAGE(P13:P15)","v":43289.333333333336}]
["DICIEMBRE",456,260,612,737,695,1334,1375,1144,507,777,210,742,1125,9974,39896]
["TOTAL",{"$f":"SUM(B4:B15)","v":8065},7058,4627,7424,5978,10240,13372,13442,6920,7411,4299,7507,19349,{"$f":"SUM(O4:O15)","v":115692},462768]
[]
[]
[]
[]
[]
[]
[]
[]
[]
[]
[]
[]
[]
[]
[]
[]
[]
["C/CENTROS CÍVICOS. YG"]
[]
[]
[null,null,"INFORMACIONES PRESENCIALES TRIMESTRALES"]
[]
[null,null,"MEDIA INFORMACIONES",null,"1er.\n Trimes.","2º\n trimes.","3er.\n Trimes.","4º\n trimes."]
[null,null,null,null,41475,42579,26913,43289]
[]
[]
[]
[]
[]
[]
[]
[]
[]
[]
[]
[]
[]
[]
[]
[]
[]
[]
[]
[]
[]
["C/CENTROS CÍVICOS. YG"]

{"sheet":"IND.2plazas","index":1,"n_rows":76,"n_cols":18,"rows_kept":76,"cut":false,"hidden":false,"merged":[]}
[]
[]
["PLAZAS/AÑO","Bailarín V.E.","Campillo","Casa Cuna","Delicias","Esgueva","Luelmo","Mosquera","Parquesol","Pilarica","Rondilla","Victoria","Zona Este","Zona Sur","TOTAL\nInfantil","Total\nAdulto",null,"TOTAL"]
["ENERO-Infantil ",60,0,0,85,0,48,120,135,0,100,60,78,0,{"$f":"SUM(B4:N4)","v":686}]
["ENERO-Adultos(yoga)",150,120,30,54,110,135,0,200,80,80,88,210,138,null,{"$f":"SUM(B5:O5)","v":1395}]
["ENERO-TOTAL",{"$f":"SUM(B4:B5)","v":210},120,30,139,110,183,{"$f":"SUM(H4:H5)","v":120},335,80,180,148,288,138,null,null,null,{"$f":"O4+P5","v":2081}]
["FEBRERO-Infantil.carn.valla",172,132,48,218,104,48,312,403,90,416,176,260,116,{"$f":"SUM(B7:N7)","v":2495}]
["FEBRERO-Adultos",30,0,0,54,0,0,86,50,0,0,0,48,30,null,{"$f":"SUM(B8:O8)","v":298}]
["FEBRERO-TOTAL",{"$f":"SUM(B7:B8)","v":202},132,48,272,104,48,398,453,90,416,176,308,146,null,null,null,{"$f":"SUM(B9:Q9)","v":2793}]
["MARZO-Infantil (Semana Santa)",408,348,174,419,150,1050,471,540,252,498,408,458,426,{"$f":"SUM(B10:N10)","v":5602}]
["MARZO-Adultos",30,0,0,158,0,0,98,50,0,0,0,48,30,null,{"$f":"SUM(B11:O11)","v":414}]
["MARZO-TOTAL",{"$f":"SUM(B10:B11)","v":438},348,174,577,150,1050,569,590,252,498,408,506,456,null,null,null,{"$f":"SUM(B12:Q12)","v":6016}]
["ABRIL-Infantil",140,0,0,122,0,48,116,156,0,400,60,364,162,{"$f":"SUM(B13:N13)","v":1568}]
["ABRIL-Adultos(yoga)",150,120,30,54,110,135,108,200,72,80,132,168,30,null,{"$f":"SUM(B14:O14)","v":1389}]
["ABRIL-TOTAL",{"$f":"SUM(B13:B14)","v":290},120,30,176,110,183,224,356,72,480,192,532,192,null,null,null,{"$f":"SUM(B15:Q15)","v":2957}]
["MAYO-Infantil",68,0,0,107,0,48,116,61,0,0,60,62,60,{"$f":"SUM(B16:N16)","v":582}]
["MAYO-Adultos",30,0,0,54,0,0,108,50,0,0,22,48,30,null,{"$f":"SUM(B17:O17)","v":342}]
["MAYO-TOTAL",{"$f":"SUM(B16:B17)","v":98},0,0,161,0,48,224,111,0,0,82,110,90,null,null,null,{"$f":"SUM(B18:Q18)","v":924}]
["JUNIO-Infantil",60,0,0,40,0,48,87,0,0,0,60,62,30,{"$f":"SUM(B19:N19)","v":387}]
["JUNIO-Adultos",30,0,0,58,0,0,84,50,0,0,0,16,0,null,{"$f":"SUM(B20:O20)","v":238}]
["JUNIO-TOTAL",{"$f":"SUM(B19:B20)","v":90},0,0,98,0,48,171,50,{"$f":"SUM(J19:J20)","v":0},0,60,78,30,null,null,null,{"$f":"SUM(B21:Q21)","v":625}]
["JULIO-Infantil (verano)",148,180,58,148,156,212,132,290,232,360,244,264,412,{"$f":"SUM(B22:N22)","v":2836}]
["JULIO-Adultos",0,0,0,0,0,0,0,0,0,0,0,0,0,null,{"$f":"SUM(B23:O23)","v":0}]
["JULIO-TOTAL",{"$f":"SUM(B22:B23)","v":148},180,58,148,156,212,132,290,232,360,244,264,412,null,null,null,{"$f":"SUM(B24:Q24)","v":2836}]
["AGOSTO-Infantil(verano)",164,180,116,74,104,205,132,226,232,360,193,218,360,{"$f":"SUM(B25:N25)","v":2564}]
["AGOSTO-Adultos",0,0,0,0,0,0,0,0,0,0,0,0,0,null,{"$f":"SUM(B26:O26)","v":0}]
["AGOSTO TOTAL",{"$f":"SUM(B25:B26)","v":164},180,116,74,104,205,132,226,232,360,193,218,360,null,null,null,{"$f":"SUM(B27:Q27)","v":2564}]
["SEPTIEMBRE-Infantil",60,0,0,0,0,10,0,0,0,0,0,0,0,{"$f":"SUM(B28:N28)","v":70}]
["SEPTIEMBRE-Adultos",0,0,0,0,0,0,0,0,0,0,0,0,0,null,{"$f":"SUM(B29:O29)","v":0}]
["SEPTIEMBRE-TOTAL",{"$f":"SUM(B28:B29)","v":60},0,0,0,0,10,0,0,0,0,0,0,0,null,null,null,{"$f":"SUM(B30:Q30)","v":70}]
["OCTUBRE-Infantil ",60,0,0,102,0,125,60,40,null,115,15,66,27,{"$f":"SUM(B31:N31)","v":610}]
["OCTUBRE-Adultos (yoga)",150,120,30,163,110,135,81,185,80,80,88,219,150,null,{"$f":"SUM(B32:O32)","v":1591}]
["OCTUBRE-TOTAL",{"$f":"SUM(B31:B32)","v":210},120,30,265,110,260,141,225,80,195,103,285,177,null,null,null,{"$f":"SUM(B33:Q33)","v":2201}]
["NOVIEMBRE-Infantil",174,0,0,120,0,135,102,40,0,142,31,242,54,{"$f":"SUM(B34:N34)","v":1040}]
["NOVIEMBRE-Adultos",30,0,0,59,0,90,100,35,0,0,72,45,42,null,{"$f":"SUM(B35:O35)","v":473}]
["NOVIEMBRE-TOTAL",{"$f":"SUM(B34:B35)","v":204},0,0,179,0,225,202,75,0,142,103,287,96,null,null,null,{"$f":"SUM(B36:Q36)","v":1513}]
["DICIEMBRE-Infantil(navidad)",375,315,29,514,320,991,223,649,180,431,578,540,348,{"$f":"SUM(B37:N37)","v":5493}]
["DICIEMBRE-Adultos",25,0,0,163,0,90,90,35,null,null,null,45,42,null,{"$f":"SUM(B38:O38)","v":490}]
["DICIEMBRE-TOTAL",{"$f":"SUM(B37:B38)","v":400},315,29,677,320,1081,313,684,180,431,578,585,{"$f":"SUM(N37:N38)","v":390},null,null,null,{"$f":"SUM(B39:Q39)","v":5983}]
[null,null,null,null,null,null,null,null,null,null,null,null,null,null,{"$f":"SUM(O4:O39)","v":23933},{"$f":"SUM(P5:P39)","v":6630},null,{"$f":"SUM(R6:R39)","v":30563}]
["Vallatarde y vallanoche","Yoga",null,"ludoteca",null,"actividades estacionales"]
["C/CENTROS CÍVICOS. YG"]
[]
[]
[]
[null,"ENERO","FEBRERO","MARZO","ABRIL","MAYO","JUNIO","JULIO","AGOSTO","SEPTIEMBRE","OCTUBRE ","NOVIEMBRE","DICIEMBRE","TOTAL"]
["PLAZAS/AÑO-INFANTIL",686,2495,5602,1568,582,387,2836,2564,70,610,1040,5493,{"$f":"SUM(B47:M47)","v":23933}]
["PLAZAS/AÑO-ADULTO",1395,298,414,1389,342,238,0,0,0,1591,473,490,{"$f":"SUM(B48:M48)","v":6630}]
["PLAZAS/AÑO-TODAS",{"$f":"SUM(B47:B48)","v":2081},{"$f":"SUM(C47:C48)","v":2793},6016,2957,924,625,2836,2564,70,2201,1513,5983,{"$f":"SUM(N47:N48)","v":30563}]
[]
[]
[]
[]
[]
[]
[]
[]
[]
[]
[]
[]
[]
[]
[]
[]
[]
[]
[]
[]
[]
[]
[]
[]
[]
[]
["C/CENTROS CÍVICOS. YG"]

{"sheet":"IND.3 act cult","index":2,"n_rows":35,"n_cols":15,"rows_kept":35,"cut":false,"hidden":false,"merged":[]}
[]
[]
["ACTIVIDADES","Bailarín V.E.\n1","Campillo\n2","Casa Cuna\n3","Delicias\n4","Esgueva\n5","Luelmo\n6","Mosquera\n7","Parquesol\n8","Pilarica\n9","Rondilla\n10","La Victoria\n11","Zona Este\n12","Zona Sur\n13","TOTAL"]
["ENERO",9,0,1,8,9,5,12,5,9,11,6,3,8,{"$f":"SUM(B4:N4)","v":86}]
["FEBRERO",17,2,2,11,6,9,19,7,3,16,7,9,16,124]
["MARZO",12,3,3,18,4,13,28,9,5,11,7,10,27,150]
["ABRIL",14,9,3,20,5,15,21,11,7,10,7,8,24,154]
["MAYO",15,7,1,22,7,20,15,11,10,15,5,11,26,165]
["JUNIO",25,2,4,23,8,5,10,21,4,23,3,11,7,146]
["JULIO",0,0,0,3,0,0,0,0,0,0,0,0,0,3]
["AGOSTO",0,0,0,0,0,0,0,0,0,1,0,1,0,2]
["SEPTIEMBRE",9,2,2,6,3,10,5,6,4,3,2,4,5,61]
["OCTUBRE",17,1,6,16,5,22,19,8,12,12,6,14,25,163]
["NOVIEMBRE",19,9,5,25,6,15,25,15,17,20,9,21,26,212]
["DICIEMBRE",24,4,7,20,16,15,18,15,9,22,7,11,13,181]
["TOTAL",{"$f":"SUM(B4:B15)","v":161},39,34,172,69,129,172,108,80,144,59,103,177,{"$f":"SUM(O4:O15)","v":1447}]
[]
[]
[]
[]
[]
[]
[]
[]
[]
[]
[]
[]
[]
[]
[]
[]
[]
[]
["C/CENTROS CÍVICOS. YG"]

{"sheet":"IND.4 act.inf","index":3,"n_rows":83,"n_cols":21,"rows_kept":83,"cut":false,"hidden":false,"merged":[]}
[]
[]
["PLAZAS/AÑO","Bailarín V.E.","Campillo","Casa Cuna","Delicias","Esgueva","Luelmo","Mosquera","Parquesol","Pilarica","Rondilla","Victoria","Zona Este","Zona Sur"," Las Flores","Overuela","P.Duero","TOTAL\ntalleres","Total\nActiv abiertas",null,"TOTAL"]
["ENERO-Talleres",null,null,null,null,null,null,null,null,null,null,null,null,null,null,null,null,{"$f":"SUM(B4:N4)","v":0}]
["ENERO-Act. abierta",null,null,null,null,null,null,null,null,null,null,null,null,null,null,null,null,null,{"$f":"SUM(B5:R5)","v":0}]
["ENERO-TOTAL",null,null,null,null,null,null,null,null,null,null,null,null,null,null,null,null,null,null,null,{"$f":"SUM(B6:T6)","v":0}]
["FEBRERO- (carnav. Vallat)",8,8,2,7,4,18,12,10,6,6,6,8,12,2,2,0,{"$f":"SUM(B7:Q7)","v":111}]
["FEBRERO-Act. Abierta",null,null,null,null,null,null,null,null,null,null,null,null,null,null,null,null,null,{"$f":"SUM(B8:R8)","v":0}]
["FEBRERO-TOTAL",null,null,null,null,null,null,null,null,null,null,null,null,null,null,null,null,111,null,null,{"$f":"SUM(B9:T9)","v":111}]
["MARZO-Talleres (Semana Santa)",25,24,6,21,15,48,24,35,18,39,24,24,36,6,6,0,{"$f":"SUM(B10:Q10)","v":351}]
["MARZO-Act. Abierta",null,null,null,null,null,null,null,null,null,null,null,null,null,null,null,null,null,{"$f":"SUM(B11:R11)","v":0}]
["MARZO-TOTAL",null,null,null,null,null,null,null,null,null,null,null,null,null,null,null,null,351,null,null,{"$f":"SUM(B12:T12)","v":351}]
["ABRIL-Talleres",null,null,null,null,null,null,null,null,null,null,null,null,null,null,null,null,{"$f":"SUM(B13:N13)","v":0}]
["ABRIL-Act. Abierta",null,null,null,null,null,null,null,null,null,null,null,null,null,null,null,null,null,{"$f":"SUM(B14:R14)","v":0}]
["ABRIL-TOTAL",null,null,null,null,null,null,null,null,null,null,null,null,null,null,null,null,null,null,null,{"$f":"SUM(B15:T15)","v":0}]
["MAYO-Talleres",null,null,null,null,null,null,null,null,null,null,null,null,null,null,null,null,{"$f":"SUM(B16:N16)","v":0}]
["MAYO-Act. Abierta",null,null,null,null,null,null,null,null,null,null,null,null,null,null,null,null,null,{"$f":"SUM(B17:R17)","v":0}]
["MAYO-TOTAL",null,null,null,null,null,null,null,null,null,null,null,null,null,null,null,null,null,null,null,{"$f":"S17+R16","v":0}]
["JUNIO-Talleres",null,null,null,null,null,null,null,null,null,null,null,null,null,null,null,null,{"$f":"SUM(B19:N19)","v":0}]
["JUNIO-Act. Abierta",null,null,null,null,null,null,null,null,null,null,null,null,null,null,null,null,null,{"$f":"SUM(B20:R20)","v":0}]
["JUNIO-TOTAL",null,null,null,null,null,null,null,null,null,null,null,null,null,null,null,null,null,null,null,{"$f":"R19+S20","v":0}]
["JULIO-Talleres(Verano)",10,8,4,9,10,27,18,23,21,18,15,14,20,2,4,2,{"$f":"SUM(B22:Q22)","v":205}]
["JULIO-Act- Abiertas",null,null,null,null,null,null,null,null,null,null,null,null,null,null,null,null,null,{"$f":"SUM(B23:R23)","v":0}]
["JULIO-TOTAL",null,null,null,null,null,null,null,null,null,null,null,null,null,null,null,null,205,null,null,{"$f":"SUM(B24:T24)","v":205}]
["AGOSTO-Talleres(Verano)",8,8,4,5,8,17,10,15,8,16,14,10,14,1,4,2,{"$f":"SUM(B25:Q25)","v":144}]
["AGOSTO-Act. Abierta",null,null,null,null,null,null,null,null,null,null,null,null,null,null,null,null,null,{"$f":"SUM(B26:R26)","v":0}]
["AGOSTO TOTAL",null,null,null,null,null,null,null,null,null,null,null,null,null,null,null,null,144,null,null,{"$f":"R25+S26","v":144}]
["SEPTIEMBRE-Talleres",null,null,null,null,null,null,null,null,null,null,null,null,null,null,null,null,{"$f":"SUM(B28:N28)","v":0}]
["SEPTIEMBRE-Act. Abierta",null,null,null,null,null,null,null,null,null,null,null,null,null,null,null,null,null,{"$f":"SUM(B29:R29)","v":0}]
["SEPTIEMBRE-TOTAL",null,null,null,null,null,null,null,null,null,null,null,null,null,null,null,null,null,null,null,{"$f":"SUM(B30:T30)","v":0}]
["OCTUBRE-Talleres",null,null,null,null,null,null,null,null,null,null,null,null,null,null,null,null,{"$f":"SUM(B31:N31)","v":0}]
["OCTUBRE-Act. Abierta",null,null,null,null,null,null,null,null,null,null,null,null,null,null,null,null,null,{"$f":"SUM(B32:R32)","v":0}]
["OCTUBRE-TOTAL",null,null,null,null,null,null,null,null,null,null,null,null,null,null,null,null,null,null,null,{"$f":"SUM(B33:T33)","v":0}]
["NOVIEMBRE-Talleres",null,null,null,null,null,null,null,null,null,null,null,null,null,null,null,null,{"$f":"SUM(B34:N34)","v":0}]
["NOVIEMBRE-Act. Abierta",null,null,null,null,null,null,null,null,null,null,null,null,null,null,null,null,null,{"$f":"SUM(B35:R35)","v":0}]
["NOVIEMBRE-TOTAL",null,null,null,null,null,null,null,null,null,null,null,null,null,null,null,null,null,null,null,{"$f":"SUM(B36:T36)","v":0}]
["DICIEMBRE-Talleres(Navidad)",24,28,0,33,21,59,55,35,21,27,36,35,35,7,7,7,{"$f":"SUM(B37:Q37)","v":430}]
["DICIEMBRE-Act. Abierta",null,null,null,null,null,null,null,null,null,null,null,null,null,null,null,null,null,{"$f":"SUM(B38:R38)","v":0}]
["DICIEMBRE-TOTAL",null,null,null,null,null,null,null,null,null,null,null,null,null,null,null,null,430,null,null,{"$f":"SUM(B39:T39)","v":430}]
[null,null,null,null,null,null,null,null,null,null,null,null,null,null,null,null,null,1241,{"$f":"SUM(S5:S39)","v":0},null,{"$f":"SUM(U6:U39)","v":1241}]
[]
["C/CENTROS CÍVICOS. YG"]
[]
[]
[]
[]
[]
[null,"ENERO","FEBRERO","MARZO","ABRIL","MAYO","JUNIO","JULIO","AGOSTO","SEPTIEMBRE","OCTUBRE ","NOVIEMBRE","DICIEMBRE","TOTAL"]
["Nº ACTIVIDADES TALLER",null,111,351,null,null,null,205,144,null,null,null,430,{"$f":"SUM(B49:M49)","v":1241}]
["Nº ACTIVIDADES ABIERTAS"]
["TOTAL ACTIVIDADES"]
[]
[]
[]
[]
[]
[]
[]
[]
[]
[]
[]
[]
[]
[]
[]
[]
[]
[]
[]
[]
[]
[]
[]
[]
[]
[]
["C/CENTROS CÍVICOS. YG"]
["NOTAS: "]
["Febrero, inscripción carnaval"]
["Marzo, inscripción semana santa"]
["Junio, inscripción verano, los talleres se realizan en julio y agosto"]
["Diciembre, inscripción navidad"]

{"sheet":"IND.5 EXPOS","index":4,"n_rows":55,"n_cols":15,"rows_kept":55,"cut":false,"hidden":false,"merged":[[36,0,36,14],[42,0,42,14],[44,0,44,14],[49,0,49,2],[47,0,47,2],[45,0,45,1],[43,0,43,14]]}
[]
[]
["EXPOSICIONES","B.V.E.","Campillo","Casa Cuna","Delicias","Esgueva","Luelmo","Mosquera","Parquesol","Pilarica","Rondilla","Victoria","Zona Este","Zona Sur","TOTAL"]
["ENERO",2,1,2,2,2,3,4,2,1,1,1,1,4,{"$f":"SUM(B4:N4)","v":26}]
["FEBRERO",2,0,2,1,2,2,3,2,1,2,2,0,4,23]
["MARZO",2,1,2,3,2,2,3,2,1,2,2,2,4,28]
["ABRIL",2,2,2,2,2,2,5,2,1,3,2,2,4,31]
["MAYO",2,2,2,2,2,3,4,1,1,3,2,2,6,32]
["JUNIO",2,2,2,4,2,3,4,1,1,2,2,2,4,31]
["JULIO",1,1,1,1,1,1,1,1,1,1,1,1,1,13]
["AGOSTO",1,0,1,1,1,1,1,1,1,1,1,1,1,12]
["SEPTIEMBRE",3,0,2,2,1,1,3,2,1,2,1,1,3,22]
["OCTUBRE",2,2,2,3,2,2,4,2,2,2,1,2,4,30]
["NOVIEMBRE",2,2,2,2,2,2,5,2,2,2,2,2,4,31]
["DICIEMBRE",2,2,2,3,2,2,6,2,1,2,2,2,3,31]
["Por Centros",{"$f":"SUM(B4:B15)","v":23},15,22,26,21,24,43,20,14,23,19,18,42,310]
[]
[]
[]
[]
[]
[]
[]
[]
[]
[]
[]
[]
[]
[]
[]
[]
[]
[]
[]
["C/CENTROS CÍVICOS. YG"]
["Se ponen a disposición de los artistas nóveles y colectivos artísticos o culturales  29 espacios para la realización de exposiciones."]
[]
[]
[]
[]
["* Se realizaron un total de 310 exposiciones, distribuidas en 13 CENTROS CÍVICOS más 2 CENTROS MUNICIPALES, CON EL SIGUIENTE DESGLOSE :"]
[]
["Se ponen a disposición de los artistas nóveles y colectivos artísticos o culturales  29 espacios para la realización de exposiciones."]
[]
["* Nº de expositores: 50"]
[]
["* Nº de expositoras: 38"]
[]
["*Nº  entidades o grupos: 222"]
[]
["Número de nuevos expositores respecto al año anterior: 64 expositores"]
[]
["ONEGÉS","ASOCIACIONES\n VECINALES Y \nOTRAS \nASOCIACIONES/\nENTIDADES","COLECTIVOS\n ARTÍSTICOS","VIOLENCIA DE GÉNERO","ARTISTAS \nINDIVIDUALES","TEMÁTICAS\nAYUNTAMIENTO","SERVICIOS \nMUNICIPALES","OTRAS"]
[29,63,47,6,87,70,15,0]

{"sheet":"IND.6 ESPACIO","index":5,"n_rows":9,"n_cols":14,"rows_kept":9,"cut":false,"hidden":false,"merged":[]}
[]
[]
["Centro Cívico","B.V.E.","Campillo","Casa Cuna","Delicias","Esgueva","Luelmo","Mosquera","Parquesol","Pilarica","Rondilla","Victoria","Zona Este","Zona Sur"]
["% ESPACIO DISP/.MAÑANAS","%",0.93100000000000005,0.92879999999999996,0.52380000000000004,"%",0.98780000000000001,"%",0.77139999999999997,0.95830000000000004,0.97609999999999997,0.94820000000000004,0.71289999999999998,0.95409999999999995]
["% ESPACIO DISP/.TARDES","%",0.91180000000000005,0.86770000000000003,0,"%",0.90190000000000003,"%",0.72770000000000001,0.89410000000000001,0.90890000000000004,0.83879999999999999,0.65790000000000004,0.94450000000000001]
["% ESPACIO DISP/.TOTAL",0.96179999999999999,0.91800000000000004,0.8982,0.52380000000000004,"418h.=88,56%",0.94479999999999997,0.7,0.75129999999999997,0.9194,0.94199999999999995,0.89270000000000005,0.68,0.94920000000000004]
["%OCUPACIÓN MAÑANAS ","%",0.37240000000000001,0.24660000000000001,0.75,"%",0.22320000000000001,0.4,"     46.70%","39h=14,77%","128,5h=34,1%","68h=39.8%",5.1700000000000003E-2,"221h=42,33%"]
["%OCUPACIÓN TARDES","%",0.65880000000000005,"       20.84%",1,"%",0.78559999999999997,0.6,0.6,"181h=49,12%","240h=61,5%","117h=65%",0.20849999999999999,"339h=62,77%"]
["%OCUPACIóN TOTAL",0.38379999999999997,0.52700000000000002,"       45.50%",0.875,"138h=29,24%",0.50439999999999996,0.5,0.5282,0.43540000000000001,0.434,0.52259999999999995,0.126,0.52549999999999997]

{"sheet":"IND.7 APERT.","index":6,"n_rows":36,"n_cols":16,"rows_kept":36,"cut":false,"hidden":false,"merged":[]}
[]
[]
["DIAS/AÑO","Bailarín V.E.\n1","Campillo\n2","Casa Cuna\n3","Delicias\n4","Esgueva\n5","J.Mª\nLuelmo\n6","J.L\nMosquera\n7","Parquesol\n8","Pilarica\n9","Rondilla\n10","Victoria\n11","Zona Este\n12","Zona Sur\n13","TOTAL","MEDIA"]
["ENERO",25,23,23,28,25,23,23,23,23,23,23,23,23,{"$f":"SUM(B4:N4)","v":308},{"$f":"AVERAGE(B4:N4)","v":23.692307692307693}]
["FEBRERO",27,26,25,29,25,25,27,25,26,27,25,25,30,342,{"$f":"AVERAGE(B5:N5)","v":26.307692307692307}]
["MARZO",25,26,24,27,24,24,25,25,26,25,24,24,25,324,24.923076923076923]
["ABRIL",26,27,25,30,25,25,27,25,26,26,25,25,25,337,25.923076923076923]
["MAYO",25,24,24,30,24,24,24,24,23,24,24,24,24,318,24.46153846153846]
["JUNIO",27,27,26,30,26,28,26,26,26,26,26,27,26,347,26.692307692307693]
["JULIO",21,21,21,22,21,25,22,21,21,26,21,26,26,294,22.615384615384617]
["AGOSTO",22,22,22,22,22,26,22,22,22,26,22,26,25,301,23.153846153846153]
["SEPTIEMBRE",23,22,24,23,23,26,23,23,21,23,23,23,24,301,23.153846153846153]
["OCTUBRE",27,26,25,30,25,25,29,25,27,27,25,25,25,341,26.23076923076923]
["NOVIEMBRE",27,27,25,29,25,25,28,25,25,28,25,25,26,340,26.153846153846153]
["DICIEMBRE",23,24,22,25,22,22,24,21,22,33,22,22,22,{"$f":"SUM(B15:N15)","v":304},{"$f":"AVERAGE(B15:N15)","v":23.384615384615383}]
["TOTAL\n AÑO/CENTRO",{"$f":"SUM(B4:B15)","v":298},295,286,325,287,298,300,285,288,314,285,295,301,3857,{"$f":"AVERAGE(P4:P15)","v":24.724358974358974}]
[]
[]
[]
[]
[]
[]
[]
[]
[]
[]
[]
["C/CENTROS CÍVICOS. YG"]
[]
[]
[]
[]
["Los centros han estado funcionando 3857 días durante el año 2016"]
[]
["MESES","ENERO","FEBRERO","MARZO","ABRIL","MAYO","JUNIO","JULIO","AGOSTO","SEPTIEMBRE","OCTUBRE ","NOVIEMBRE","DICIEMBRE"]
["MEDIA",{"$f":"AVERAGE(B4:N4)","v":23.692307692307693},{"$f":"AVERAGE(B5:N5)","v":26.307692307692307},{"$f":"AVERAGE(B6:N6)","v":24.923076923076923},{"$f":"AVERAGE(B7:N7)","v":25.923076923076923},{"$f":"AVERAGE(B8:N8)","v":24.46153846153846},{"$f":"AVERAGE(B9:N9)","v":26.692307692307693},{"$f":"AVERAGE(B10:N10)","v":22.615384615384617},{"$f":"AVERAGE(B11:N11)","v":23.153846153846153},{"$f":"AVERAGE(B12:N12)","v":23.153846153846153},{"$f":"AVERAGE(B13:N13)","v":26.23076923076923},{"$f":"AVERAGE(B14:N14)","v":26.153846153846153},{"$f":"AVERAGE(B15:N15)","v":23.384615384615383}]

{"sheet":"IND.8 SOLICI","index":7,"n_rows":35,"n_cols":15,"rows_kept":35,"cut":false,"hidden":false,"merged":[]}
[]
[]
["SOLICITUDES","Bailarín V.E.\n1","Campillo\n2","Casa Cuna\n3","Delicias\n4","Esgueva\n5","J.MªLuelmo\n6","J.L\nMosquera\n7","Parquesol\n8","Pilarica\n9","Rondilla\n10","Victoria\n11","Zona Este\n12","Zona Sur\n13","TOTAL"]
["ENERO",52,22,28,29,46,123,56,6,39,60,37,50,66,{"$f":"SUM(B4:N4)","v":614}]
["FEBRERO",45,33,21,32,38,98,79,12,43,40,45,52,64,602]
["MARZO",62,46,30,35,52,125,68,17,17,40,33,53,72,650]
["ABRIL",53,56,31,35,45,96,53,14,38,75,28,60,53,637]
["MAYO",49,46,20,32,55,125,46,11,49,80,30,42,65,650]
["JUNIO",60,57,19,33,48,45,62,41,39,90,19,42,54,609]
["JULIO",2,2,8,17,15,198,12,1,2,20,0,7,54,338]
["AGOSTO",3,2,3,11,12,13,10,3,3,20,6,6,5,97]
["SEPTIEMBRE",18,30,17,21,27,60,60,13,15,50,39,43,87,480]
["OCTUBRE",45,41,28,32,52,80,71,12,25,60,30,47,35,558]
["NOVIEMBRE",52,59,26,37,75,52,69,13,33,80,24,55,44,619]
["DICIEMBRE",49,59,20,35,48,25,50,10,15,120,19,40,25,515]
["TOTAL ANUAL",{"$f":"SUM(B4:B15)","v":490},453,251,349,513,1040,636,153,318,735,310,497,624,6369]
[]
[]
[]
[]
[]
[]
[]
[]
[]
[]
[]
[]
[]
[]
[]
[]
[]
[]
["C/CENTROS CÍVICOS. YG"]

{"sheet":"IND.9 C.C","index":8,"n_rows":29,"n_cols":15,"rows_kept":29,"cut":false,"hidden":false,"merged":[]}
[]
[]
[]
["CONSEJO","B.V.E.","Campillo","Casa Cuna","Delicias","Esgueva","Luelmo","Mosquera","Parquesol","Pilarica","Rondilla","La Victoria","Zona Este","Zona Sur","TOTAL"]
["ENERO"]
["FEBRERO"]
["MARZO"]
["ABRIL"]
["MAYO"]
["JUNIO","2016-06-15","2016-06-15","2016-06-09","2016-06-09","2016-06-16","2016-06-13","2016-06-16","2016-06-10","2016-06-15","2016-06-13","2016-06-17","2016-06-16","2016-06-17",13]
["JULIO"]
["AGOSTO"]
["SEPTIEMBRE"]
["OCTUBRE"]
["NOVIEMBRE","2016-11-16","2016-01-22","2016-11-16",null,"2016-11-10",null,"2016-11-16","2016-11-24","2016-11-30","2016-11-17","2016-11-30","2411/2016","2016-11-22",11]
["DICIEMBRE",null,null,null,"2016-12-02",null,"2016-12-02",null,null,null,null,null,null,null,2]
[]
[]
[null,null,"REUNIONES BIANUALES DE LOS CENTROS"]
[]
[null,"1er Semestre","2º Semestre."]
["REALIZADOS",13,13]
[]
[]
[]
[]
[]
[]
["C/CENTROS CÍVICOS. Y.G "]

{"sheet":"asociacionismo","index":9,"n_rows":49,"n_cols":16,"rows_kept":49,"cut":false,"hidden":false,"merged":[]}
[]
[]
["asociaciones","B.V.E.","Campillo","Casa Cuna","Delicias","Esgueva","Luelmo","Mosquera","Parquesol","Pilarica","Rondilla","Victoria","Zona Este","Zona Sur","TOTAL"]
["número",23,20,25,54,23,35,38,17,18,32,20,16,41,{"$f":"SUM(B4:N4)","v":362},362]
[]
[]
[]
[]
[]
[]
[]
[]
[]
[]
[]
[]
[]
[]
[]
[]
[]
[]
[]
[]
[]
[]
[]
[]
[]
[]
[]
[]
[]
[]
[]
[]
[]
[]
[]
[]
[]
[]
[]
[]
[]
[]
[]
[]
["C/CENTROS CÍVICOS. YG"]

{"sheet":"IND.10QUEJAS","index":10,"n_rows":0,"n_cols":0,"rows_kept":0,"cut":false,"hidden":false,"merged":[]}

{"sheet":"TIPOLOGÍA","index":11,"n_rows":31,"n_cols":19,"rows_kept":31,"cut":false,"hidden":false,"merged":[[28,9,28,10],[28,11,28,12],[28,13,28,14],[28,15,28,16],[28,1,28,2],[28,3,28,4],[28,5,28,6],[28,7,28,8],[0,2,0,3],[3,1,3,8],[3,9,3,16],[4,1,4,2],[4,3,4,4],[4,5,4,6],[4,7,4,8],[4,9,4,10],[4,11,4,12],[4,13,4,14],[4,15,4,16]]}
[null,null,null,null,null,null,null,null,null,"ACTIVIDADES PUNTUALES- CERRADAS"]
[]
[]
[null,"                                                                 TIPOLOGÍA REUNIONES",null,null,null,null,null,null,null,"                                                          TIPOLOGÍA ACTIVIDADES"]
[null,"REUNIÓN COMUNIDAD VECINOS",null,"REUNIONES ASOCIACIONES",null,"REUNIONES PARTIDOS POLÍTICOS Y SINDICATOS",null,"REUNIONES SERVICIOS MUNICIPALES",null,"RUEDA PRENSA",null,"SEMINARIOS, ASAMBLEAS,\nCURSOS…",null,"ENSAYOS PUNTUALES",null,"OTROS"]
[null,"Nº","Asistentes","Nº","Asistentes","Nº","Asistentes","Nº","Asistentes","Nº","Asistentes","Nº","Asistentes","Nº","Asistentes","Nº","Asistentes","TOTALES","TOTALES"]
["CC BAILARÍN V.ESCUDERO",{"$f":"SUM([2]ENE:DIC!B8)","v":262},{"$f":"SUM([2]ENE:DIC!C8)","v":5378},{"$f":"SUM([2]ENE:DIC!D8)","v":35},{"$f":"SUM([2]ENE:DIC!E8)","v":901},{"$f":"SUM([2]ENE:DIC!F8)","v":5},{"$f":"SUM([2]ENE:DIC!G8)","v":762},{"$f":"SUM([2]ENE:DIC!H8)","v":1},{"$f":"SUM([2]ENE:DIC!I8)","v":2},{"$f":"SUM([2]ENE:DIC!J8)","v":1},{"$f":"SUM([2]ENE:DIC!K8)","v":3},{"$f":"SUM([2]ENE:DIC!L8)","v":69},{"$f":"SUM([2]ENE:DIC!M8)","v":6692},{"$f":"SUM([2]ENE:DIC!N8)","v":26},{"$f":"SUM([2]ENE:DIC!O8)","v":256},{"$f":"SUM([2]ENE:DIC!P8)","v":49},{"$f":"SUM([2]ENE:DIC!Q8)","v":2754},{"$f":"B7+D7+F7+H7+J7+L7+N7+P7","v":448},16748]
["CC CAMPILLO",{"$f":"SUM([2]ENE:DIC!B9)","v":119},{"$f":"SUM([2]ENE:DIC!C9)","v":1547},{"$f":"SUM([2]ENE:DIC!D9)","v":12},{"$f":"SUM([2]ENE:DIC!E9)","v":680},{"$f":"SUM([2]ENE:DIC!F9)","v":6},{"$f":"SUM([2]ENE:DIC!G9)","v":145},{"$f":"SUM([2]ENE:DIC!H9)","v":21},{"$f":"SUM([2]ENE:DIC!I9)","v":63},{"$f":"SUM([2]ENE:DIC!J9)","v":0},{"$f":"SUM([2]ENE:DIC!K9)","v":0},{"$f":"SUM([2]ENE:DIC!L9)","v":84},{"$f":"SUM([2]ENE:DIC!M9)","v":750},{"$f":"SUM([2]ENE:DIC!N9)","v":19},{"$f":"SUM([2]ENE:DIC!O9)","v":198},{"$f":"SUM([2]ENE:DIC!P9)","v":0},{"$f":"SUM([2]ENE:DIC!Q9)","v":0},261,3383]
["CC CASA CUNA",{"$f":"SUM([2]ENE:DIC!B10)","v":41},{"$f":"SUM([2]ENE:DIC!C10)","v":745},{"$f":"SUM([2]ENE:DIC!D10)","v":110},{"$f":"SUM([2]ENE:DIC!E10)","v":990},{"$f":"SUM([2]ENE:DIC!F10)","v":5},{"$f":"SUM([2]ENE:DIC!G10)","v":225},{"$f":"SUM([2]ENE:DIC!H10)","v":12},{"$f":"SUM([2]ENE:DIC!I10)","v":84},{"$f":"SUM([2]ENE:DIC!J10)","v":2},{"$f":"SUM([2]ENE:DIC!K10)","v":70},{"$f":"SUM([2]ENE:DIC!L10)","v":18},{"$f":"SUM([2]ENE:DIC!M10)","v":769},{"$f":"SUM([2]ENE:DIC!N10)","v":97},{"$f":"SUM([2]ENE:DIC!O10)","v":845},{"$f":"SUM([2]ENE:DIC!P10)","v":26},{"$f":"SUM([2]ENE:DIC!Q10)","v":1175},311,4903]
["CC DELICIAS",{"$f":"SUM([2]ENE:DIC!B11)","v":70},{"$f":"SUM([2]ENE:DIC!C11)","v":2255},{"$f":"SUM([2]ENE:DIC!D11)","v":76},{"$f":"SUM([2]ENE:DIC!E11)","v":1940},{"$f":"SUM([2]ENE:DIC!F11)","v":10},{"$f":"SUM([2]ENE:DIC!G11)","v":2435},{"$f":"SUM([2]ENE:DIC!H11)","v":58},{"$f":"SUM([2]ENE:DIC!I11)","v":1448},{"$f":"SUM([2]ENE:DIC!J11)","v":3},{"$f":"SUM([2]ENE:DIC!K11)","v":175},{"$f":"SUM([2]ENE:DIC!L11)","v":34},{"$f":"SUM([2]ENE:DIC!M11)","v":2021},{"$f":"SUM([2]ENE:DIC!N11)","v":115},{"$f":"SUM([2]ENE:DIC!O11)","v":2550},{"$f":"SUM([2]ENE:DIC!P11)","v":32},{"$f":"SUM([2]ENE:DIC!Q11)","v":2310},398,15134]
["CC ESGUEVA",{"$f":"SUM([2]ENE:DIC!B12)","v":195},{"$f":"SUM([2]ENE:DIC!C12)","v":5130},{"$f":"SUM([2]ENE:DIC!D12)","v":37},{"$f":"SUM([2]ENE:DIC!E12)","v":2041},{"$f":"SUM([2]ENE:DIC!F12)","v":6},{"$f":"SUM([2]ENE:DIC!G12)","v":200},{"$f":"SUM([2]ENE:DIC!H12)","v":14},{"$f":"SUM([2]ENE:DIC!I12)","v":180},{"$f":"SUM([2]ENE:DIC!J12)","v":0},{"$f":"SUM([2]ENE:DIC!K12)","v":0},{"$f":"SUM([2]ENE:DIC!L12)","v":35},{"$f":"SUM([2]ENE:DIC!M12)","v":2085},{"$f":"SUM([2]ENE:DIC!N12)","v":29},{"$f":"SUM([2]ENE:DIC!O12)","v":360},{"$f":"SUM([2]ENE:DIC!P12)","v":33},{"$f":"SUM([2]ENE:DIC!Q12)","v":1930},349,11926]
["CC J.M. LUELMO",{"$f":"SUM([2]ENE:DIC!B13)","v":85},{"$f":"SUM([2]ENE:DIC!C13)","v":1619},{"$f":"SUM([2]ENE:DIC!D13)","v":63},{"$f":"SUM([2]ENE:DIC!E13)","v":1410},{"$f":"SUM([2]ENE:DIC!F13)","v":16},{"$f":"SUM([2]ENE:DIC!G13)","v":400},{"$f":"SUM([2]ENE:DIC!H13)","v":5},{"$f":"SUM([2]ENE:DIC!I13)","v":405},{"$f":"SUM([2]ENE:DIC!J13)","v":1},{"$f":"SUM([2]ENE:DIC!K13)","v":20},{"$f":"SUM([2]ENE:DIC!L13)","v":28},{"$f":"SUM([2]ENE:DIC!M13)","v":935},{"$f":"SUM([2]ENE:DIC!N13)","v":84},{"$f":"SUM([2]ENE:DIC!O13)","v":1642},{"$f":"SUM([2]ENE:DIC!P13)","v":19},{"$f":"SUM([2]ENE:DIC!Q13)","v":763},301,7194]
["CC J.L. MOSQUERA",{"$f":"SUM([2]ENE:DIC!B14)","v":116},{"$f":"SUM([2]ENE:DIC!C14)","v":3334},{"$f":"SUM([2]ENE:DIC!D14)","v":63},{"$f":"SUM([2]ENE:DIC!E14)","v":1932},{"$f":"SUM([2]ENE:DIC!F14)","v":8},{"$f":"SUM([2]ENE:DIC!G14)","v":587},{"$f":"SUM([2]ENE:DIC!H14)","v":22},{"$f":"SUM([2]ENE:DIC!I14)","v":4101},{"$f":"SUM([2]ENE:DIC!J14)","v":0},{"$f":"SUM([2]ENE:DIC!K14)","v":0},{"$f":"SUM([2]ENE:DIC!L14)","v":71},{"$f":"SUM([2]ENE:DIC!M14)","v":4662},{"$f":"SUM([2]ENE:DIC!N14)","v":97},{"$f":"SUM([2]ENE:DIC!O14)","v":2996},{"$f":"SUM([2]ENE:DIC!P14)","v":24},{"$f":"SUM([2]ENE:DIC!Q14)","v":1156},401,18768]
["CC PARQUESOL",{"$f":"SUM([2]ENE:DIC!B15)","v":49},{"$f":"SUM([2]ENE:DIC!C15)","v":1565},{"$f":"SUM([2]ENE:DIC!D15)","v":23},{"$f":"SUM([2]ENE:DIC!E15)","v":705},{"$f":"SUM([2]ENE:DIC!F15)","v":8},{"$f":"SUM([2]ENE:DIC!G15)","v":100},{"$f":"SUM([2]ENE:DIC!H15)","v":4},{"$f":"SUM([2]ENE:DIC!I15)","v":29},{"$f":"SUM([2]ENE:DIC!J15)","v":0},{"$f":"SUM([2]ENE:DIC!K15)","v":0},{"$f":"SUM([2]ENE:DIC!L15)","v":31},{"$f":"SUM([2]ENE:DIC!M15)","v":734},{"$f":"SUM([2]ENE:DIC!N15)","v":30},{"$f":"SUM([2]ENE:DIC!O15)","v":523},{"$f":"SUM([2]ENE:DIC!P15)","v":22},{"$f":"SUM([2]ENE:DIC!Q15)","v":961},167,4617]
["CC PILARICA",{"$f":"SUM([2]ENE:DIC!B16)","v":141},{"$f":"SUM([2]ENE:DIC!C16)","v":2900},{"$f":"SUM([2]ENE:DIC!D16)","v":139},{"$f":"SUM([2]ENE:DIC!E16)","v":2040},{"$f":"SUM([2]ENE:DIC!F16)","v":4},{"$f":"SUM([2]ENE:DIC!G16)","v":0},{"$f":"SUM([2]ENE:DIC!H16)","v":4},{"$f":"SUM([2]ENE:DIC!I16)","v":15},{"$f":"SUM([2]ENE:DIC!J16)","v":0},{"$f":"SUM([2]ENE:DIC!K16)","v":0},{"$f":"SUM([2]ENE:DIC!L16)","v":2},{"$f":"SUM([2]ENE:DIC!M16)","v":220},{"$f":"SUM([2]ENE:DIC!N16)","v":13},{"$f":"SUM([2]ENE:DIC!O16)","v":162},{"$f":"SUM([2]ENE:DIC!P16)","v":1},{"$f":"SUM([2]ENE:DIC!Q16)","v":60},304,5397]
["CC VICTORIA",{"$f":"SUM([2]ENE:DIC!B17)","v":118},{"$f":"SUM([2]ENE:DIC!C17)","v":2560},{"$f":"SUM([2]ENE:DIC!D17)","v":55},{"$f":"SUM([2]ENE:DIC!E17)","v":1031},{"$f":"SUM([2]ENE:DIC!F17)","v":1},{"$f":"SUM([2]ENE:DIC!G17)","v":0},{"$f":"SUM([2]ENE:DIC!H17)","v":25},{"$f":"SUM([2]ENE:DIC!I17)","v":131},{"$f":"SUM([2]ENE:DIC!J17)","v":0},{"$f":"SUM([2]ENE:DIC!K17)","v":0},{"$f":"SUM([2]ENE:DIC!L17)","v":14},{"$f":"SUM([2]ENE:DIC!M17)","v":403},{"$f":"SUM([2]ENE:DIC!N17)","v":34},{"$f":"SUM([2]ENE:DIC!O17)","v":367},{"$f":"SUM([2]ENE:DIC!P17)","v":15},{"$f":"SUM([2]ENE:DIC!Q17)","v":650},262,5142]
["CC RONDILLA",{"$f":"SUM([2]ENE:DIC!B18)","v":73},{"$f":"SUM([2]ENE:DIC!C18)","v":2311},{"$f":"SUM([2]ENE:DIC!D18)","v":62},{"$f":"SUM([2]ENE:DIC!E18)","v":1514},{"$f":"SUM([2]ENE:DIC!F18)","v":6},{"$f":"SUM([2]ENE:DIC!G18)","v":434},{"$f":"SUM([2]ENE:DIC!H18)","v":59},{"$f":"SUM([2]ENE:DIC!I18)","v":248},{"$f":"SUM([2]ENE:DIC!J18)","v":0},{"$f":"SUM([2]ENE:DIC!K18)","v":0},{"$f":"SUM([2]ENE:DIC!L18)","v":2},{"$f":"SUM([2]ENE:DIC!M18)","v":75},{"$f":"SUM([2]ENE:DIC!N18)","v":93},{"$f":"SUM([2]ENE:DIC!O18)","v":1509},{"$f":"SUM([2]ENE:DIC!P18)","v":6},{"$f":"SUM([2]ENE:DIC!Q18)","v":1020},301,7111]
["CC ZONA ESTE",{"$f":"SUM([2]ENE:DIC!B19)","v":203},{"$f":"SUM([2]ENE:DIC!C19)","v":4562},{"$f":"SUM([2]ENE:DIC!D19)","v":12},{"$f":"SUM([2]ENE:DIC!E19)","v":318},{"$f":"SUM([2]ENE:DIC!F19)","v":5},{"$f":"SUM([2]ENE:DIC!G19)","v":120},{"$f":"SUM([2]ENE:DIC!H19)","v":134},{"$f":"SUM([2]ENE:DIC!I19)","v":402},{"$f":"SUM([2]ENE:DIC!J19)","v":0},{"$f":"SUM([2]ENE:DIC!K19)","v":0},{"$f":"SUM([2]ENE:DIC!L19)","v":18},{"$f":"SUM([2]ENE:DIC!M19)","v":923},{"$f":"SUM([2]ENE:DIC!N19)","v":84},{"$f":"SUM([2]ENE:DIC!O19)","v":981},{"$f":"SUM([2]ENE:DIC!P19)","v":8},{"$f":"SUM([2]ENE:DIC!Q19)","v":2620},464,9926]
["CC ZONA SUR",{"$f":"SUM([2]ENE:DIC!B20)","v":69},{"$f":"SUM([2]ENE:DIC!C20)","v":2045},{"$f":"SUM([2]ENE:DIC!D20)","v":92},{"$f":"SUM([2]ENE:DIC!E20)","v":4454},{"$f":"SUM([2]ENE:DIC!F20)","v":25},{"$f":"SUM([2]ENE:DIC!G20)","v":1599},{"$f":"SUM([2]ENE:DIC!H20)","v":106},{"$f":"SUM([2]ENE:DIC!I20)","v":2319},{"$f":"SUM([2]ENE:DIC!J20)","v":2},{"$f":"SUM([2]ENE:DIC!K20)","v":13},{"$f":"SUM([2]ENE:DIC!L20)","v":81},{"$f":"SUM([2]ENE:DIC!M20)","v":10947},{"$f":"SUM([2]ENE:DIC!N20)","v":85},{"$f":"SUM([2]ENE:DIC!O20)","v":1395},{"$f":"SUM([2]ENE:DIC!P20)","v":88},{"$f":"SUM([2]ENE:DIC!Q20)","v":4056},548,26828]
["CM LAS FLORES",{"$f":"SUM([2]ENE:DIC!B21)","v":7},{"$f":"SUM([2]ENE:DIC!C21)","v":190},{"$f":"SUM([2]ENE:DIC!D21)","v":0},{"$f":"SUM([2]ENE:DIC!E21)","v":0},{"$f":"SUM([2]ENE:DIC!F21)","v":0},{"$f":"SUM([2]ENE:DIC!G21)","v":0},{"$f":"SUM([2]ENE:DIC!H21)","v":2},{"$f":"SUM([2]ENE:DIC!I21)","v":6},{"$f":"SUM([2]ENE:DIC!J21)","v":0},{"$f":"SUM([2]ENE:DIC!K21)","v":0},{"$f":"SUM([2]ENE:DIC!L21)","v":0},{"$f":"SUM([2]ENE:DIC!M21)","v":0},{"$f":"SUM([2]ENE:DIC!N21)","v":1},{"$f":"SUM([2]ENE:DIC!O21)","v":12},{"$f":"SUM([2]ENE:DIC!P21)","v":0},{"$f":"SUM([2]ENE:DIC!Q21)","v":0},10,208]
["CM LA OVERUELA",5,{"$f":"SUM([2]ENE:DIC!C22)","v":93},{"$f":"SUM([2]ENE:DIC!D22)","v":8},{"$f":"SUM([2]ENE:DIC!E22)","v":75},{"$f":"SUM([2]ENE:DIC!F22)","v":0},{"$f":"SUM([2]ENE:DIC!G22)","v":0},{"$f":"SUM([2]ENE:DIC!H22)","v":0},{"$f":"SUM([2]ENE:DIC!I22)","v":0},{"$f":"SUM([2]ENE:DIC!J22)","v":0},{"$f":"SUM([2]ENE:DIC!K22)","v":0},{"$f":"SUM([2]ENE:DIC!L22)","v":0},{"$f":"SUM([2]ENE:DIC!M22)","v":0},{"$f":"SUM([2]ENE:DIC!N22)","v":0},{"$f":"SUM([2]ENE:DIC!O22)","v":0},{"$f":"SUM([2]ENE:DIC!P22)","v":2},{"$f":"SUM([2]ENE:DIC!Q22)","v":60},15,228]
["CM PUENTE DUERO",{"$f":"SUM([2]ENE:DIC!B23)","v":0},{"$f":"SUM([2]ENE:DIC!C23)","v":0},{"$f":"SUM([2]ENE:DIC!D23)","v":0},{"$f":"SUM([2]ENE:DIC!E23)","v":0},{"$f":"SUM([2]ENE:DIC!F23)","v":0},{"$f":"SUM([2]ENE:DIC!G23)","v":0},{"$f":"SUM([2]ENE:DIC!H23)","v":0},{"$f":"SUM([2]ENE:DIC!I23)","v":0},{"$f":"SUM([2]ENE:DIC!J23)","v":0},{"$f":"SUM([2]ENE:DIC!K23)","v":0},{"$f":"SUM([2]ENE:DIC!L23)","v":2},{"$f":"SUM([2]ENE:DIC!M23)","v":50},{"$f":"SUM([2]ENE:DIC!N23)","v":0},{"$f":"SUM([2]ENE:DIC!O23)","v":0},{"$f":"SUM([2]ENE:DIC!P23)","v":0},{"$f":"SUM([2]ENE:DIC!Q23)","v":0},2,50]
["TOTAL",{"$f":"SUM(B7:B22)","v":1553},{"$f":"SUM(C7:C22)","v":36234},787,20031,105,7007,467,9433,9,281,489,31266,807,13796,325,19515,{"$f":"SUM(R7:R22)","v":4542},{"$f":"SUM(S7:S22)","v":137563}]
[]
[]
[]
["LOS CENTROS HAN TENIDO 4.542 ACTIVIDADES PUNTUALES "]
[]
["TIPOLOGÍA","REUNIÓN COMUNIDAD VECINOS",null,"REUNIONES ASOCIACIONES",null,"REUNIONES PARTIDOS POLÍTICOS Y SINDICATOS",null,"REUNIONES SERVICIOS MUNICIPALES",null,"RUEDA PRENSA",null,"SEMINARIOS, ASAMBLEAS,\nCURSOS…",null,"ENSAYOS PUNTUALES",null,"OTROS"]
[null,"Nº","Asistentes","Nº","Asistentes","Nº","Asistentes","Nº","Asistentes","Nº","Asistentes","Nº","Asistentes","Nº","Asistentes","Nº","Asistentes"]
[null,1553,36234,787,20031,105,7007,467,9433,9,281,489,31266,807,13796,325,19515]